BEGIN:VCALENDAR
VERSION:2.0
PRODID:-//Highland Heights, KY - ECPv6.15.18//NONSGML v1.0//EN
CALSCALE:GREGORIAN
METHOD:PUBLISH
X-WR-CALNAME:Highland Heights, KY
X-ORIGINAL-URL:https://hhky.com
X-WR-CALDESC:Events for Highland Heights, KY
REFRESH-INTERVAL;VALUE=DURATION:PT1H
X-Robots-Tag:noindex
X-PUBLISHED-TTL:PT1H
BEGIN:VTIMEZONE
TZID:America/Halifax
BEGIN:DAYLIGHT
TZOFFSETFROM:-0400
TZOFFSETTO:-0300
TZNAME:ADT
DTSTART:20230312T060000
END:DAYLIGHT
BEGIN:STANDARD
TZOFFSETFROM:-0300
TZOFFSETTO:-0400
TZNAME:AST
DTSTART:20231105T050000
END:STANDARD
BEGIN:DAYLIGHT
TZOFFSETFROM:-0400
TZOFFSETTO:-0300
TZNAME:ADT
DTSTART:20240310T060000
END:DAYLIGHT
BEGIN:STANDARD
TZOFFSETFROM:-0300
TZOFFSETTO:-0400
TZNAME:AST
DTSTART:20241103T050000
END:STANDARD
BEGIN:DAYLIGHT
TZOFFSETFROM:-0400
TZOFFSETTO:-0300
TZNAME:ADT
DTSTART:20250309T060000
END:DAYLIGHT
BEGIN:STANDARD
TZOFFSETFROM:-0300
TZOFFSETTO:-0400
TZNAME:AST
DTSTART:20251102T050000
END:STANDARD
END:VTIMEZONE
BEGIN:VTIMEZONE
TZID:America/Kentucky/Louisville
BEGIN:DAYLIGHT
TZOFFSETFROM:-0500
TZOFFSETTO:-0400
TZNAME:EDT
DTSTART:20230312T070000
END:DAYLIGHT
BEGIN:STANDARD
TZOFFSETFROM:-0400
TZOFFSETTO:-0500
TZNAME:EST
DTSTART:20231105T060000
END:STANDARD
BEGIN:DAYLIGHT
TZOFFSETFROM:-0500
TZOFFSETTO:-0400
TZNAME:EDT
DTSTART:20240310T070000
END:DAYLIGHT
BEGIN:STANDARD
TZOFFSETFROM:-0400
TZOFFSETTO:-0500
TZNAME:EST
DTSTART:20241103T060000
END:STANDARD
BEGIN:DAYLIGHT
TZOFFSETFROM:-0500
TZOFFSETTO:-0400
TZNAME:EDT
DTSTART:20250309T070000
END:DAYLIGHT
BEGIN:STANDARD
TZOFFSETFROM:-0400
TZOFFSETTO:-0500
TZNAME:EST
DTSTART:20251102T060000
END:STANDARD
END:VTIMEZONE
BEGIN:VTIMEZONE
TZID:UTC
BEGIN:STANDARD
TZOFFSETFROM:+0000
TZOFFSETTO:+0000
TZNAME:UTC
DTSTART:20230101T000000
END:STANDARD
END:VTIMEZONE
BEGIN:VEVENT
DTSTART;TZID=America/Halifax:20241007T173000
DTEND;TZID=America/Halifax:20241007T203000
DTSTAMP:20260423T172532
CREATED:20240927T192713Z
LAST-MODIFIED:20240927T192801Z
UID:10000446-1728322200-1728333000@hhky.com
SUMMARY:Comp Plan Steering Committee Meeting
DESCRIPTION:The Highland Heights 2024 Comprehensive Plan Steering Committee will meet Monday\, October 7 from 5:30 pm-7:30 pm in the Community Room at the Highland Heights City Building\, 176 Johns Hill Road. The purpose of the meeting is to review and discuss the City Planner’s drafts of the elements of the 2024 Comprehensive Plan. The 2024 Statement of Goals and Objectives was adopted by the Highland Heights Planning Commission in April 2024 and by the Highland Heights City Council in July 2024. Community members are invited to attend the meeting.
URL:https://hhky.com/event/comp-plan-steering-committee-meeting/
LOCATION:KY
CATEGORIES:Planning - Zoning
END:VEVENT
BEGIN:VEVENT
DTSTART;TZID=America/Kentucky/Louisville:20241008T190000
DTEND;TZID=America/Kentucky/Louisville:20241008T210000
DTSTAMP:20260423T172532
CREATED:20240819T215710Z
LAST-MODIFIED:20241002T125914Z
UID:10000029-1728414000-1728421200@hhky.com
SUMMARY:CANCELLED-Planning and Zoning Meeting
DESCRIPTION:7:00 pm\, Council Chambers\, 176 Johns Hill Road
URL:https://hhky.com/event/planning-and-zoning-meeting-2/
LOCATION:KY
CATEGORIES:Planning - Zoning
END:VEVENT
BEGIN:VEVENT
DTSTART;TZID=UTC:20241016T190000
DTEND;TZID=UTC:20241016T200000
DTSTAMP:20260423T172532
CREATED:20240917T141457Z
LAST-MODIFIED:20241002T130113Z
UID:10000445-1729105200-1729108800@hhky.com
SUMMARY:Board of Adjustment Meeting
DESCRIPTION:The City of Highland Heights\, Board of Adjustment will meet Wednesday\, October 16\, 2024\, at 7PM at 176 Johns Hill Road.
URL:https://hhky.com/event/board-of-adjustment-meeting/
LOCATION:Council Chambers\, 176 Johns Hill Rd\, Highland Heights\, KY\, 41076\, United States
CATEGORIES:Planning - Zoning
END:VEVENT
BEGIN:VEVENT
DTSTART;TZID=America/Halifax:20241021T170000
DTEND;TZID=America/Halifax:20241021T200000
DTSTAMP:20260423T172532
CREATED:20240927T193236Z
LAST-MODIFIED:20240927T193709Z
UID:10000447-1729530000-1729540800@hhky.com
SUMMARY:Comp Plan Community Open House
DESCRIPTION:This will take place in the Community Room at the Highland Heights City Building from 5:00-8:00 PM. The purpose of the open house is to receive input from the public on the proposed Comprehensive Plan.
URL:https://hhky.com/event/comp-plan-community-open-house/
LOCATION:KY
CATEGORIES:Planning - Zoning
END:VEVENT
END:VCALENDAR