BEGIN:VCALENDAR
VERSION:2.0
PRODID:-//Highland Heights, KY - ECPv6.15.18//NONSGML v1.0//EN
CALSCALE:GREGORIAN
METHOD:PUBLISH
X-WR-CALNAME:Highland Heights, KY
X-ORIGINAL-URL:https://hhky.com
X-WR-CALDESC:Events for Highland Heights, KY
REFRESH-INTERVAL;VALUE=DURATION:PT1H
X-Robots-Tag:noindex
X-PUBLISHED-TTL:PT1H
BEGIN:VTIMEZONE
TZID:America/Halifax
BEGIN:DAYLIGHT
TZOFFSETFROM:-0400
TZOFFSETTO:-0300
TZNAME:ADT
DTSTART:20230312T060000
END:DAYLIGHT
BEGIN:STANDARD
TZOFFSETFROM:-0300
TZOFFSETTO:-0400
TZNAME:AST
DTSTART:20231105T050000
END:STANDARD
BEGIN:DAYLIGHT
TZOFFSETFROM:-0400
TZOFFSETTO:-0300
TZNAME:ADT
DTSTART:20240310T060000
END:DAYLIGHT
BEGIN:STANDARD
TZOFFSETFROM:-0300
TZOFFSETTO:-0400
TZNAME:AST
DTSTART:20241103T050000
END:STANDARD
BEGIN:DAYLIGHT
TZOFFSETFROM:-0400
TZOFFSETTO:-0300
TZNAME:ADT
DTSTART:20250309T060000
END:DAYLIGHT
BEGIN:STANDARD
TZOFFSETFROM:-0300
TZOFFSETTO:-0400
TZNAME:AST
DTSTART:20251102T050000
END:STANDARD
END:VTIMEZONE
BEGIN:VTIMEZONE
TZID:America/Kentucky/Louisville
BEGIN:DAYLIGHT
TZOFFSETFROM:-0500
TZOFFSETTO:-0400
TZNAME:EDT
DTSTART:20230312T070000
END:DAYLIGHT
BEGIN:STANDARD
TZOFFSETFROM:-0400
TZOFFSETTO:-0500
TZNAME:EST
DTSTART:20231105T060000
END:STANDARD
BEGIN:DAYLIGHT
TZOFFSETFROM:-0500
TZOFFSETTO:-0400
TZNAME:EDT
DTSTART:20240310T070000
END:DAYLIGHT
BEGIN:STANDARD
TZOFFSETFROM:-0400
TZOFFSETTO:-0500
TZNAME:EST
DTSTART:20241103T060000
END:STANDARD
BEGIN:DAYLIGHT
TZOFFSETFROM:-0500
TZOFFSETTO:-0400
TZNAME:EDT
DTSTART:20250309T070000
END:DAYLIGHT
BEGIN:STANDARD
TZOFFSETFROM:-0400
TZOFFSETTO:-0500
TZNAME:EST
DTSTART:20251102T060000
END:STANDARD
END:VTIMEZONE
BEGIN:VEVENT
DTSTART;TZID=America/Halifax:20241112T190000
DTEND;TZID=America/Halifax:20241112T200000
DTSTAMP:20260423T172730
CREATED:20240927T193423Z
LAST-MODIFIED:20240927T193811Z
UID:10000448-1731438000-1731441600@hhky.com
SUMMARY:Comp Plan Public Hearing
DESCRIPTION:The Highland Heights Planning and Zoning Commission will hold a Public Hearing at 7:00 PM in Council Chambers at the Highland Heights City Building. The purpose of the public hearing is to receive input from the community on the proposed Comprehensive Plan.
URL:https://hhky.com/event/comp-plan-public-hearing/
LOCATION:KY
CATEGORIES:Planning - Zoning
END:VEVENT
BEGIN:VEVENT
DTSTART;TZID=America/Kentucky/Louisville:20241112T193000
DTEND;TZID=America/Kentucky/Louisville:20241112T210000
DTSTAMP:20260423T172730
CREATED:20240819T215710Z
LAST-MODIFIED:20240927T194232Z
UID:10000030-1731439800-1731445200@hhky.com
SUMMARY:Planning and Zoning Meeting
DESCRIPTION:This meeting will immediately follow the Public Hearing at approximately 7:30 pm\, Council Chambers\, 176 Johns Hill Road.
URL:https://hhky.com/event/planning-and-zoning-meeting-3/
LOCATION:KY
CATEGORIES:Planning - Zoning
END:VEVENT
END:VCALENDAR