BEGIN:VCALENDAR
VERSION:2.0
PRODID:-//Highland Heights, KY - ECPv6.15.18//NONSGML v1.0//EN
CALSCALE:GREGORIAN
METHOD:PUBLISH
X-WR-CALNAME:Highland Heights, KY
X-ORIGINAL-URL:https://hhky.com
X-WR-CALDESC:Events for Highland Heights, KY
REFRESH-INTERVAL;VALUE=DURATION:PT1H
X-Robots-Tag:noindex
X-PUBLISHED-TTL:PT1H
BEGIN:VTIMEZONE
TZID:America/Halifax
BEGIN:DAYLIGHT
TZOFFSETFROM:-0400
TZOFFSETTO:-0300
TZNAME:ADT
DTSTART:20230312T060000
END:DAYLIGHT
BEGIN:STANDARD
TZOFFSETFROM:-0300
TZOFFSETTO:-0400
TZNAME:AST
DTSTART:20231105T050000
END:STANDARD
BEGIN:DAYLIGHT
TZOFFSETFROM:-0400
TZOFFSETTO:-0300
TZNAME:ADT
DTSTART:20240310T060000
END:DAYLIGHT
BEGIN:STANDARD
TZOFFSETFROM:-0300
TZOFFSETTO:-0400
TZNAME:AST
DTSTART:20241103T050000
END:STANDARD
BEGIN:DAYLIGHT
TZOFFSETFROM:-0400
TZOFFSETTO:-0300
TZNAME:ADT
DTSTART:20250309T060000
END:DAYLIGHT
BEGIN:STANDARD
TZOFFSETFROM:-0300
TZOFFSETTO:-0400
TZNAME:AST
DTSTART:20251102T050000
END:STANDARD
END:VTIMEZONE
BEGIN:VEVENT
DTSTART;TZID=America/Halifax:20241113T190000
DTEND;TZID=America/Halifax:20241113T200000
DTSTAMP:20260415T203259
CREATED:20241017T133847Z
LAST-MODIFIED:20241113T162610Z
UID:4439-1731524400-1731528000@hhky.com
SUMMARY:CANCELLED - Board of Adjustment Meeting
DESCRIPTION:The City of Highland Heights\, Board of Adjustment meeting on Wednesday\, November 13\, 2024\, at 7PM. Located at 176 Johns Hill Rd. \n.
URL:https://hhky.com/event/city-of-highland-heights-board-of-adjustment-meeting/
CATEGORIES:Planning - Zoning
END:VEVENT
END:VCALENDAR